BEGIN:VCALENDAR
VERSION:2.0
PRODID:-// - ECPv6.15.0.1//NONSGML v1.0//EN
CALSCALE:GREGORIAN
METHOD:PUBLISH
X-ORIGINAL-URL:https://brokli.co.uk
X-WR-CALDESC:Events for 
REFRESH-INTERVAL;VALUE=DURATION:PT1H
X-Robots-Tag:noindex
X-PUBLISHED-TTL:PT1H
BEGIN:VTIMEZONE
TZID:UTC
BEGIN:STANDARD
TZOFFSETFROM:+0000
TZOFFSETTO:+0000
TZNAME:UTC
DTSTART:20240101T000000
END:STANDARD
END:VTIMEZONE
BEGIN:VEVENT
DTSTART;VALUE=DATE:20240908
DTEND;VALUE=DATE:20240909
DTSTAMP:20260419T151339
CREATED:20240901T180034Z
LAST-MODIFIED:20240901T180034Z
UID:1901-1725753600-1725839999@brokli.co.uk
SUMMARY:Join Brokli at the TRANSMUTE NQ Opening Celebration in Manchester’s Northern Quarter!
DESCRIPTION:We’re thrilled to be part of this vibrant new space’s grand opening. \nCatch a up close and personal Brokli – Dimension Groove live music set on Sunday\, 8th September\, from 5:15 PM to 6:30 PM. This event is a fantastic opportunity to experience the creative energy and community spirit that TRANSMUTE embodies. \nCome celebrate with us and dive into two days of workshops\, activities\, and great vibes. We can’t wait to share our music with you in this dynamic new venue! \nEvent Details: \n\nDate: Sunday\, 8th September\nTime: 5:15 PM – 6:30 PM\nLocation: TRANSMUTE NQ\, Manchester\nAdmission: Free\n\nDon’t miss this special event—see you there!
URL:https://brokli.co.uk/event/join-brokli-at-the-transmute-nq-opening-celebration-2024-manchesters-northern-quarter/
CATEGORIES:Live show - Manchester,Transmute Open day
ATTACH;FMTTYPE=image/jpeg:https://brokli.co.uk/wp-content/uploads/2024/09/e7cb8d78-46fd-4aa7-9c7f-9bebbbf8e802.jpeg
END:VEVENT
BEGIN:VEVENT
DTSTART;VALUE=DATE:20240824
DTEND;VALUE=DATE:20240825
DTSTAMP:20260419T151339
CREATED:20240802T114247Z
LAST-MODIFIED:20240802T114247Z
UID:1877-1724457600-1724543999@brokli.co.uk
SUMMARY:Brokli Live at the HOPE Freedom Music Festival
DESCRIPTION:Join Brokli and Bernardo the mystical dog live at the HOPE Freedom Music Festival for an unforgettable dancing event. Brokli calls all hearts and spiritual minds to join together in a celebration of harmony\, dance\, breathwork space and time. \nBrokli takes the stage on August 24th at 7:15 PM. Experience the magic of the Brokli live event\, which promises to aid this be an endless summer! \nThe festival offers much more\, including unwinding at the spa\, enjoying a live drum and bass session\, or exploring creative workshops\, there’s really is something for all. \nWith limited tickets available\, give this a look\, and make your summer more memorable! \nHighlights:\n\nBrokli live on the ROMEO Stage with Bernardo\nWood-fired hot tub and sauna\nArt exhibitions and workshops\nKids activities and family fun\nDelicious food and drinks from local vendors\nEvening fire pit and closing ceremony\n\n\n 
URL:https://brokli.co.uk/event/brokli-live-at-the-hope-freedom-music-festival/
ATTACH;FMTTYPE=image/jpeg:https://brokli.co.uk/wp-content/uploads/2024/08/hope-festival.jpg
END:VEVENT
BEGIN:VEVENT
DTSTART;TZID=UTC:20240820T080000
DTEND;TZID=UTC:20240820T170000
DTSTAMP:20260419T151339
CREATED:20240801T152118Z
LAST-MODIFIED:20240801T152118Z
UID:1820-1724140800-1724173200@brokli.co.uk
SUMMARY:Brokli at Art Beats Festival 2024 - Lancaster!
DESCRIPTION:We are excited to announce that our song and video\, “Brokli – Mother Gaia\,” have been selected to be featured in the Art Beats Festival 2024! This event is a wonderful opportunity to explore innovative works of art\, film\, music\, and theater from artists around the world.\nEvent Details: \n\nFestival: Art Beats Festival 2024\nTheme: Flight\, Eco-Visions\, and Untold Stories\nVenue: Online at Lancaster University and Sunway University\nExhibition Dates: Available throughout the festival duration\n\nDiscover “Brokli – Mother Gaia”: \nOur piece\, “Mother Gaia\,” is part of the Eco-Visions theme\, which focuses on the intricate relationship between humanity and the natural world. This festival provides a platform for artists to explore ecological consciousness and environmental justice through their work. \nExplore More at Art Beats Festival: \nArt Beats Festival is a collaboration between Lancaster University in the UK and Sunway University in Malaysia. It brings together a diverse collection of works that are showcased in both a physical exhibition at Sunway University and a comprehensive online gallery. \nVisit the Online Gallery: \nWe invite you to visit the Lancaster University website to explore our work alongside other innovative pieces from the festival. Join us in celebrating the power of art to inspire change and promote ecological awareness. \nExplore the Art Beats Festival Gallery: Visit the Art Beats Festival Online Gallery \nThank you for your support\, and we hope you enjoy the incredible array of art on display. Together\, let’s shape the narrative of Eco-Visions and make a lasting impact through art.
URL:https://brokli.co.uk/event/brokli-at-art-beats-festival-2024-lancaster/
CATEGORIES:Art Exhibit
ATTACH;FMTTYPE=image/jpeg:https://brokli.co.uk/wp-content/uploads/2024/08/IMG-20240207-WA00103-01.jpeg
END:VEVENT
BEGIN:VEVENT
DTSTART;TZID=UTC:20240803T123000
DTEND;TZID=UTC:20240803T233000
DTSTAMP:20260419T151339
CREATED:20240801T154933Z
LAST-MODIFIED:20240801T155058Z
UID:1859-1722688200-1722727800@brokli.co.uk
SUMMARY:Brokli live in SK6
DESCRIPTION:Join Brokli Live at The Strines All-Day Music Event!\nGet ready for an unforgettable day of cosmic funk! We are thrilled to announce that Brokli will be performing live at The Strines as part of an incredible lineup featuring Little Strange\, The Be Positivise\, Glass Frogs\, and Rob Manton. \nEvent Details: \n\nDate: 3rd of August 2024\nTime: 2 PM – 12 AM\nLocation: The Strines\, SK6 7GE\nLineup: Little Strange\, The Be Positivise\, Glass Frogs\, Rob Manton\, and Brokli\n\nLittle Strange\, The Be Positivise\, Glass Frogs + Rob Manton
URL:https://brokli.co.uk/event/brokli-live-in-sk6/
CATEGORIES:Live show - Manchester
ATTACH;FMTTYPE=image/jpeg:https://brokli.co.uk/wp-content/uploads/2024/07/Fundraiser-All-Dayer-2024.jpeg
END:VEVENT
BEGIN:VEVENT
DTSTART;TZID=UTC:20240129T080000
DTEND;TZID=UTC:20240129T170000
DTSTAMP:20260419T151339
CREATED:20240129T191835Z
LAST-MODIFIED:20240129T191835Z
UID:145-1706515200-1706547600@brokli.co.uk
SUMMARY:Moovin Festival 2023 - Brokli Live
DESCRIPTION:Brokli played live at Moovin Festival alongside Goldie and many other artists in 2023.
URL:https://brokli.co.uk/event/moovin-festival-2023-brokli-live/
CATEGORIES:Festivlas 2023
ATTACH;FMTTYPE=image/jpeg:https://brokli.co.uk/wp-content/uploads/2024/01/313140919_539545091320155_5632342011741997324_n.jpg
END:VEVENT
END:VCALENDAR